BEGIN:VCALENDAR
VERSION:2.0
PRODID:-//ICA - ECPv6.6.4.2//NONSGML v1.0//EN
CALSCALE:GREGORIAN
METHOD:PUBLISH
X-WR-CALNAME:ICA
X-ORIGINAL-URL:https://icasandiego.org
X-WR-CALDESC:Events for ICA
REFRESH-INTERVAL;VALUE=DURATION:PT1H
X-Robots-Tag:noindex
X-PUBLISHED-TTL:PT1H
BEGIN:VTIMEZONE
TZID:America/Los_Angeles
BEGIN:DAYLIGHT
TZOFFSETFROM:-0800
TZOFFSETTO:-0700
TZNAME:PDT
DTSTART:20230312T100000
END:DAYLIGHT
BEGIN:STANDARD
TZOFFSETFROM:-0700
TZOFFSETTO:-0800
TZNAME:PST
DTSTART:20231105T090000
END:STANDARD
END:VTIMEZONE
BEGIN:VEVENT
DTSTART;VALUE=DATE:20230206
DTEND;VALUE=DATE:20230213
DTSTAMP:20260420T153447
CREATED:20221221T234349Z
LAST-MODIFIED:20230103T215812Z
UID:2127-1675641600-1676246399@icasandiego.org
SUMMARY:Insider Series: ZONAMACO & Mexico City Trip
DESCRIPTION:Join us as a VIP for a trip to Mexico City\, February 6th-12th\, with an itinerary of exclusive and art-filled experiences. \nOur Executive Director\, Andrew Utt\, will accompany the group as they tour local galleries\, experience the ZONAMACO contemporary art fair\, chat with curators and artists\, and enjoy exceptional Mexican cuisine. \nZONAMACO is the largest art fair platform in Latin America. The trip will include VIP access to events within and surrounding the fair\, such as galas\, parties\, and brunches alongside other VIP art lovers. Make plans for these events\, and more: Dinner at Galería OMR; Gala at El Museo Tamayo; tours of galleries\, visits to collectors’ homes\, museums\, and art fairs; as well as optional excursions to local fashion and design stores. \nTo register for this trip\, use your Membership ID at the Honorary Level or above. By becoming an Honorary Member\, you help us to offer FREE exhibits\, events\, and programming designed to connect the public meaningfully with contemporary art — all while enjoying the insider’s perks! \nAll expenses will be included in the price\, excluding airfare. \n$5\,500 per person / $9\,000 per couple (or any 2 people sharing a room) \nEmail julea@icasandiego.org if you have any questions! \nRSVP here \n  \n 
URL:https://icasandiego.org/event/insider-series-zonamaco-mexico-city-trip/
LOCATION:Mexico City\, Mexico\, Mexico City\, Mexico
CATEGORIES:Events
ATTACH;FMTTYPE=image/png:https://icasandiego.org/wp-content/uploads/2022/12/zonamaco-logo-2018-1500px_white_bg.png
GEO:19.4326077;-99.133208
END:VEVENT
END:VCALENDAR